BEGIN:VCALENDAR
VERSION:2.0
PRODID:-//eventon.com NONSGML v1.0//EN
CALSCALE:GREGORIAN
METHOD:PUBLISH
BEGIN:VEVENT
UID:69e739e912dd5
DTSTAMP:20260421T084841Z
DTSTART:20200112T190000Z
DTEND:20200112T235000Z
LOCATION:Kawai Piano Gallery 601 W. Plano Parkway\,  Suite 153\,  Plano\,  TX 75075
SUMMARY:Duo Erti Recital with Gary Levinson\,  violin\,  and Baya Kakouberi\,  piano
DESCRIPTION:Shigeru Kawai Chamber Series Duo Erti Recital Gary Levinson\,  
 violin Baya Kakouberi\,  piano Recital Date: Sunday\,  January 12\,  2020 T
 ime: 7:00 pm Location: Kawai Piano Gallery\,  601 W. Plano Parkway\,  Suite
  153\,  Plano\,  TX 75075 Phone: 972-379-2200 Tickets: Available Soon Perfo
 rmance Program Detailed program to be announced soon\nhttps://www.kawaipian
 osdallas.com/kawai-events/duo-erti-solo-recital/
URL:https://www.kawaipianosdallas.com/kawai-events/duo-erti-solo-recital/
END:VEVENT
END:VCALENDAR